BEGIN:VCALENDAR
VERSION:2.0
PRODID:-//Chamber of Commerce//Calendar//EN
METHOD:PUBLISH
BEGIN:VEVENT
UID:CHAMBERCAL-168642-84998-0
DTSTART:20260312t090000
DTEND:20260312t110000
SEQUENCE:0
STATUS:CONFIRMED
SUMMARY:Grant Writing Basics 2026
LOCATION:Press Building 549 4th St.\, Port Arthur TX 77640
DESCRIPTION:
CLASS:PUBLIC
TRANSP:OPAQUE
END:VEVENT
END:VCALENDAR