BEGIN:VCALENDAR
VERSION:2.0
PRODID:-//Chamber of Commerce//Calendar//EN
METHOD:PUBLISH
BEGIN:VEVENT
UID:CHAMBERCAL-168636-84992-0
DTSTART:20260219t100000
DTEND:20260219t100000
SEQUENCE:0
STATUS:CONFIRMED
SUMMARY:SALUTE TO THE PORTS
LOCATION:Robert A Bob Bowers Civic Center 3401 Cultural Center Drive\, Port Arthur TX 77642
DESCRIPTION:
CLASS:PUBLIC
TRANSP:OPAQUE
END:VEVENT
END:VCALENDAR